Package: iSEEu Version: 1.22.0 Command: /Library/Frameworks/R.framework/Resources/bin/R CMD INSTALL iSEEu StartedAt: 2025-11-10 15:15:25 -0500 (Mon, 10 Nov 2025) EndedAt: 2025-11-10 15:15:39 -0500 (Mon, 10 Nov 2025) EllapsedTime: 14.4 seconds RetCode: 0 Status: OK