Package: iSEEtree Version: 1.4.0 Command: /home/biocbuild/R/R/bin/R CMD INSTALL iSEEtree StartedAt: 2025-11-10 22:12:06 -0000 (Mon, 10 Nov 2025) EndedAt: 2025-11-10 22:13:09 -0000 (Mon, 10 Nov 2025) EllapsedTime: 63.4 seconds RetCode: 0 Status: OK