Package: iSEEtree Version: 1.4.0 Command: /home/biocbuild/R/R/bin/R CMD check --install=check:iSEEtree.install-out.txt --library=/home/biocbuild/R/R/site-library --no-vignettes --timings iSEEtree_1.4.0.tar.gz StartedAt: 2025-11-11 11:00:54 -0000 (Tue, 11 Nov 2025) EndedAt: 2025-11-11 11:08:14 -0000 (Tue, 11 Nov 2025) EllapsedTime: 440.6 seconds RetCode: 0 Status: OK CheckDir: iSEEtree.Rcheck Warnings: 0