Package: iSEEtree Version: 1.4.0 Command: /home/biocbuild/bbs-3.22-bioc/R/bin/R CMD INSTALL iSEEtree StartedAt: 2025-11-11 16:03:52 -0500 (Tue, 11 Nov 2025) EndedAt: 2025-11-11 16:04:39 -0500 (Tue, 11 Nov 2025) EllapsedTime: 47.2 seconds RetCode: 0 Status: OK