Package: iSEEtree Version: 1.2.0 Command: /Library/Frameworks/R.framework/Resources/bin/R CMD check --install=check:iSEEtree.install-out.txt --library=/Library/Frameworks/R.framework/Resources/library --no-vignettes --timings iSEEtree_1.2.0.tar.gz StartedAt: 2025-10-14 05:32:27 -0400 (Tue, 14 Oct 2025) EndedAt: 2025-10-14 05:44:14 -0400 (Tue, 14 Oct 2025) EllapsedTime: 706.4 seconds RetCode: 0 Status: WARNINGS CheckDir: iSEEtree.Rcheck Warnings: 1