Package: iSEEpathways Version: 1.8.0 Command: /home/biocbuild/bbs-3.22-bioc/R/bin/R CMD INSTALL iSEEpathways StartedAt: 2025-11-11 15:28:39 -0500 (Tue, 11 Nov 2025) EndedAt: 2025-11-11 15:29:11 -0500 (Tue, 11 Nov 2025) EllapsedTime: 31.4 seconds RetCode: 0 Status: OK