Package: iSEEpathways Version: 1.8.0 Command: /home/biocbuild/bbs-3.22-bioc/R/bin/R CMD check --install=check:iSEEpathways.install-out.txt --library=/home/biocbuild/bbs-3.22-bioc/R/site-library --timings iSEEpathways_1.8.0.tar.gz StartedAt: 2025-11-14 00:53:25 -0500 (Fri, 14 Nov 2025) EndedAt: 2025-11-14 00:59:59 -0500 (Fri, 14 Nov 2025) EllapsedTime: 394.4 seconds RetCode: 0 Status: OK CheckDir: iSEEpathways.Rcheck Warnings: 0