Package: iSEEpathways Version: 1.8.0 Command: /home/biocbuild/bbs-3.22-bioc/R/bin/R CMD build --keep-empty-dirs --no-resave-data --md5 iSEEpathways StartedAt: 2025-11-11 18:23:35 -0500 (Tue, 11 Nov 2025) EndedAt: 2025-11-11 18:26:21 -0500 (Tue, 11 Nov 2025) EllapsedTime: 166.2 seconds RetCode: 0 Status: OK PackageFile: iSEEpathways_1.8.0.tar.gz PackageFileSize: 2.14 MiB