Package: iSEEpathways Version: 1.6.0 Command: /home/biocbuild/bbs-3.21-bioc/R/bin/R CMD build --keep-empty-dirs --no-resave-data iSEEpathways StartedAt: 2025-10-15 18:08:48 -0400 (Wed, 15 Oct 2025) EndedAt: 2025-10-15 18:11:29 -0400 (Wed, 15 Oct 2025) EllapsedTime: 160.2 seconds RetCode: 0 Status: OK PackageFile: iSEEpathways_1.6.0.tar.gz PackageFileSize: 2.138 MiB