Package: iSEEpathways Version: 1.6.0 Command: /home/biocbuild/R/R/bin/R CMD INSTALL iSEEpathways StartedAt: 2025-09-25 20:38:35 -0000 (Thu, 25 Sep 2025) EndedAt: 2025-09-25 20:39:18 -0000 (Thu, 25 Sep 2025) EllapsedTime: 42.6 seconds RetCode: 0 Status: OK