Package: iSEEpathways Version: 1.6.0 Command: /home/biocbuild/R/R/bin/R CMD build --keep-empty-dirs --no-resave-data iSEEpathways StartedAt: 2025-09-30 02:34:20 -0000 (Tue, 30 Sep 2025) EndedAt: 2025-09-30 02:38:07 -0000 (Tue, 30 Sep 2025) EllapsedTime: 227.1 seconds RetCode: 0 Status: OK PackageFile: iSEEpathways_1.6.0.tar.gz PackageFileSize: 2.331 MiB