Package: iSEEpathways Version: 1.6.0 Command: /Library/Frameworks/R.framework/Resources/bin/R CMD build --keep-empty-dirs --no-resave-data iSEEpathways StartedAt: 2025-04-21 16:44:22 -0400 (Mon, 21 Apr 2025) EndedAt: 2025-04-21 16:45:42 -0400 (Mon, 21 Apr 2025) EllapsedTime: 79.9 seconds RetCode: 0 Status: OK PackageFile: iSEEpathways_1.6.0.tar.gz PackageFileSize: 2.138 MiB