Package: iSEEpathways Version: 1.8.0 Maintainer: Kevin Rue-Albrecht MaintainerEmail: kevinrue67 at gmail.com git_url: https://git.bioconductor.org/packages/iSEEpathways git_branch: RELEASE_3_22 git_last_commit: 8fca83e git_last_commit_date: 2025-10-29 11:25:06 -0400 (Wed, 29 Oct 2025)