Package: iSEEhub Version: 1.10.0 Command: /home/biocbuild/R/R/bin/R CMD INSTALL iSEEhub StartedAt: 2025-10-13 20:40:39 -0000 (Mon, 13 Oct 2025) EndedAt: 2025-10-13 20:41:29 -0000 (Mon, 13 Oct 2025) EllapsedTime: 49.3 seconds RetCode: 0 Status: OK