Package: iSEEhex Version: 1.12.0 Command: /home/biocbuild/bbs-3.22-bioc/R/bin/R CMD INSTALL iSEEhex StartedAt: 2025-11-06 15:24:54 -0500 (Thu, 06 Nov 2025) EndedAt: 2025-11-06 15:25:24 -0500 (Thu, 06 Nov 2025) EllapsedTime: 30.2 seconds RetCode: 0 Status: OK