Package: iSEEhex Version: 1.12.0 Command: /home/biocbuild/bbs-3.22-bioc/R/bin/R CMD build --keep-empty-dirs --no-resave-data --md5 iSEEhex StartedAt: 2025-11-05 18:26:11 -0500 (Wed, 05 Nov 2025) EndedAt: 2025-11-05 18:27:09 -0500 (Wed, 05 Nov 2025) EllapsedTime: 58.0 seconds RetCode: 0 Status: OK PackageFile: iSEEhex_1.12.0.tar.gz PackageFileSize: 486.7 KiB