Package: iSEEfier Version: 1.6.0 Command: /home/biocbuild/bbs-3.22-bioc/R/bin/R CMD INSTALL iSEEfier StartedAt: 2025-11-11 15:29:43 -0500 (Tue, 11 Nov 2025) EndedAt: 2025-11-11 15:30:12 -0500 (Tue, 11 Nov 2025) EllapsedTime: 29.3 seconds RetCode: 0 Status: OK