Package: iSEEfier Version: 1.6.0 Command: /home/biocbuild/bbs-3.22-bioc/R/bin/R CMD build --keep-empty-dirs --no-resave-data --md5 iSEEfier StartedAt: 2025-11-13 18:20:54 -0500 (Thu, 13 Nov 2025) EndedAt: 2025-11-13 18:22:10 -0500 (Thu, 13 Nov 2025) EllapsedTime: 76.1 seconds RetCode: 0 Status: OK PackageFile: iSEEfier_1.6.0.tar.gz PackageFileSize: 596.6 KiB