Package: iSEEfier Version: 1.6.0 Command: /Library/Frameworks/R.framework/Resources/bin/R CMD INSTALL iSEEfier StartedAt: 2025-11-10 15:15:39 -0500 (Mon, 10 Nov 2025) EndedAt: 2025-11-10 15:15:51 -0500 (Mon, 10 Nov 2025) EllapsedTime: 12.0 seconds RetCode: 0 Status: OK