Package: iSEEfier Version: 1.6.0 Command: /Library/Frameworks/R.framework/Resources/bin/R CMD build --keep-empty-dirs --no-resave-data iSEEfier StartedAt: 2025-11-10 16:48:34 -0500 (Mon, 10 Nov 2025) EndedAt: 2025-11-10 16:49:08 -0500 (Mon, 10 Nov 2025) EllapsedTime: 34.4 seconds RetCode: 0 Status: OK PackageFile: iSEEfier_1.6.0.tar.gz PackageFileSize: 591.6 KiB