Package: iSEEfier Version: 1.6.0 Command: rm -rf iSEEfier.buildbin-libdir && mkdir iSEEfier.buildbin-libdir && /Users/biocbuild/BBS/utils/build-universal.sh iSEEfier_1.6.0.tar.gz /Library/Frameworks/R.framework/Resources/bin/R iSEEfier.buildbin-libdir StartedAt: 2025-11-10 23:24:14 -0500 (Mon, 10 Nov 2025) EndedAt: 2025-11-10 23:24:28 -0500 (Mon, 10 Nov 2025) EllapsedTime: 14.3 seconds RetCode: 0 Status: OK PackageFile: iSEEfier_1.6.0.tgz PackageFileSize: 623.8 KiB