Package: iSEEde Version: 1.8.0 Command: /home/biocbuild/bbs-3.22-bioc/R/bin/R CMD build --keep-empty-dirs --no-resave-data --md5 iSEEde StartedAt: 2025-11-13 18:20:51 -0500 (Thu, 13 Nov 2025) EndedAt: 2025-11-13 18:22:44 -0500 (Thu, 13 Nov 2025) EllapsedTime: 113.1 seconds RetCode: 0 Status: OK PackageFile: iSEEde_1.8.0.tar.gz PackageFileSize: 3.091 MiB