Package: iSEE Version: 2.22.0 Command: /home/biocbuild/bbs-3.22-bioc/R/bin/R CMD INSTALL iSEE StartedAt: 2025-11-11 15:27:58 -0500 (Tue, 11 Nov 2025) EndedAt: 2025-11-11 15:28:38 -0500 (Tue, 11 Nov 2025) EllapsedTime: 39.6 seconds RetCode: 0 Status: OK