Package: iSEE Version: 2.20.0 Command: /home/biocbuild/R/R/bin/R CMD INSTALL iSEE StartedAt: 2025-10-13 20:36:57 -0000 (Mon, 13 Oct 2025) EndedAt: 2025-10-13 20:38:00 -0000 (Mon, 13 Oct 2025) EllapsedTime: 63.4 seconds RetCode: 0 Status: OK