Package: iSEE Version: 2.20.0 Command: /home/biocbuild/R/R/bin/R CMD build --keep-empty-dirs --no-resave-data iSEE StartedAt: 2025-10-14 01:52:51 -0000 (Tue, 14 Oct 2025) EndedAt: 2025-10-14 01:56:06 -0000 (Tue, 14 Oct 2025) EllapsedTime: 194.1 seconds RetCode: 0 Status: OK PackageFile: iSEE_2.20.0.tar.gz PackageFileSize: 26.3 MiB