Package: iSEE Version: 2.22.0 Command: /Library/Frameworks/R.framework/Resources/bin/R CMD INSTALL iSEE StartedAt: 2025-11-10 15:14:57 -0500 (Mon, 10 Nov 2025) EndedAt: 2025-11-10 15:15:12 -0500 (Mon, 10 Nov 2025) EllapsedTime: 15.9 seconds RetCode: 0 Status: OK