Package: iSEE Version: 2.22.0 Command: /Library/Frameworks/R.framework/Resources/bin/R CMD build --keep-empty-dirs --no-resave-data iSEE StartedAt: 2025-11-10 16:48:10 -0500 (Mon, 10 Nov 2025) EndedAt: 2025-11-10 16:49:06 -0500 (Mon, 10 Nov 2025) EllapsedTime: 55.6 seconds RetCode: 0 Status: OK PackageFile: iSEE_2.22.0.tar.gz PackageFileSize: 25.61 MiB