Package: iSEE Version: 2.22.0 Command: rm -rf iSEE.buildbin-libdir && mkdir iSEE.buildbin-libdir && /Users/biocbuild/BBS/utils/build-universal.sh iSEE_2.22.0.tar.gz /Library/Frameworks/R.framework/Resources/bin/R iSEE.buildbin-libdir StartedAt: 2025-11-10 23:24:11 -0500 (Mon, 10 Nov 2025) EndedAt: 2025-11-10 23:24:31 -0500 (Mon, 10 Nov 2025) EllapsedTime: 20.4 seconds RetCode: 0 Status: OK PackageFile: iSEE_2.22.0.tgz PackageFileSize: 22.45 MiB