Package: iPath Version: 1.16.0 Command: /Library/Frameworks/R.framework/Resources/bin/R CMD INSTALL iPath StartedAt: 2025-11-03 15:17:51 -0500 (Mon, 03 Nov 2025) EndedAt: 2025-11-03 15:18:22 -0500 (Mon, 03 Nov 2025) EllapsedTime: 31.0 seconds RetCode: 0 Status: OK