Package: iPath Version: 1.16.0 Command: /Library/Frameworks/R.framework/Resources/bin/R CMD build --keep-empty-dirs --no-resave-data iPath StartedAt: 2025-11-03 17:28:53 -0500 (Mon, 03 Nov 2025) EndedAt: 2025-11-03 17:29:28 -0500 (Mon, 03 Nov 2025) EllapsedTime: 35.4 seconds RetCode: 1 Status: ERROR PackageFile: None PackageFileSize: NA