Package: iPath Version: 1.14.0 Command: /home/biocbuild/R/R/bin/R CMD INSTALL iPath StartedAt: 2025-10-13 20:22:27 -0000 (Mon, 13 Oct 2025) EndedAt: 2025-10-13 20:22:57 -0000 (Mon, 13 Oct 2025) EllapsedTime: 30.2 seconds RetCode: 0 Status: OK