Package: iPath Version: 1.14.0 Command: /home/biocbuild/R/R/bin/R CMD build --keep-empty-dirs --no-resave-data iPath StartedAt: 2025-10-14 01:52:25 -0000 (Tue, 14 Oct 2025) EndedAt: 2025-10-14 01:53:11 -0000 (Tue, 14 Oct 2025) EllapsedTime: 46.0 seconds RetCode: 1 Status: ERROR PackageFile: None PackageFileSize: NA