Package: iPAC Version: 1.52.0 Command: /home/biocbuild/R/R/bin/R CMD INSTALL iPAC StartedAt: 2025-10-13 21:07:22 -0000 (Mon, 13 Oct 2025) EndedAt: 2025-10-13 21:07:42 -0000 (Mon, 13 Oct 2025) EllapsedTime: 19.8 seconds RetCode: 0 Status: OK