Package: iNETgrate Version: 1.8.0 Command: /home/biocbuild/R/R/bin/R CMD INSTALL iNETgrate StartedAt: 2025-11-13 22:09:21 -0000 (Thu, 13 Nov 2025) EndedAt: 2025-11-13 22:10:41 -0000 (Thu, 13 Nov 2025) EllapsedTime: 80.1 seconds RetCode: 0 Status: OK