Package: iNETgrate Version: 1.8.0 Command: /home/biocbuild/bbs-3.22-bioc/R/bin/R CMD INSTALL iNETgrate StartedAt: 2025-11-11 16:04:39 -0500 (Tue, 11 Nov 2025) EndedAt: 2025-11-11 16:05:40 -0500 (Tue, 11 Nov 2025) EllapsedTime: 60.9 seconds RetCode: 0 Status: OK