Package: iNETgrate Version: 1.8.0 Command: /home/biocbuild/bbs-3.22-bioc/R/bin/R CMD check --install=check:iNETgrate.install-out.txt --library=/home/biocbuild/bbs-3.22-bioc/R/site-library --timings iNETgrate_1.8.0.tar.gz StartedAt: 2025-11-12 00:42:20 -0500 (Wed, 12 Nov 2025) EndedAt: 2025-11-12 00:59:42 -0500 (Wed, 12 Nov 2025) EllapsedTime: 1041.2 seconds RetCode: 0 Status: OK CheckDir: iNETgrate.Rcheck Warnings: 0