Package: iNETgrate Version: 1.6.0 Command: /Library/Frameworks/R.framework/Resources/bin/R CMD INSTALL iNETgrate StartedAt: 2025-10-13 16:48:33 -0400 (Mon, 13 Oct 2025) EndedAt: 2025-10-13 16:50:43 -0400 (Mon, 13 Oct 2025) EllapsedTime: 129.8 seconds RetCode: 0 Status: OK