Package: iNETgrate Version: 1.6.0 Command: /Library/Frameworks/R.framework/Resources/bin/R CMD build --keep-empty-dirs --no-resave-data iNETgrate StartedAt: 2025-10-13 19:53:29 -0400 (Mon, 13 Oct 2025) EndedAt: 2025-10-13 20:01:38 -0400 (Mon, 13 Oct 2025) EllapsedTime: 488.9 seconds RetCode: 0 Status: OK PackageFile: iNETgrate_1.6.0.tar.gz PackageFileSize: 3.978 MiB