Package: iNETgrate Version: 1.6.0 Command: rm -rf iNETgrate.buildbin-libdir && mkdir iNETgrate.buildbin-libdir && /Users/biocbuild/BBS/utils/build-universal.sh iNETgrate_1.6.0.tar.gz /Library/Frameworks/R.framework/Resources/bin/R iNETgrate.buildbin-libdir StartedAt: 2025-10-14 13:46:18 -0400 (Tue, 14 Oct 2025) EndedAt: 2025-10-14 13:49:56 -0400 (Tue, 14 Oct 2025) EllapsedTime: 217.4 seconds RetCode: 0 Status: OK PackageFile: iNETgrate_1.6.0.tgz PackageFileSize: 4.194 MiB