Package: iNETgrate Version: 1.6.0 Command: /Library/Frameworks/R.framework/Resources/bin/R CMD build --keep-empty-dirs --no-resave-data iNETgrate StartedAt: 2025-04-21 17:11:58 -0400 (Mon, 21 Apr 2025) EndedAt: 2025-04-21 17:16:42 -0400 (Mon, 21 Apr 2025) EllapsedTime: 284.3 seconds RetCode: 0 Status: OK PackageFile: iNETgrate_1.6.0.tar.gz PackageFileSize: 3.979 MiB