Package: iModMix Version: 1.0.0 Command: /home/biocbuild/R/R/bin/R CMD INSTALL iModMix StartedAt: 2025-11-13 21:57:00 -0000 (Thu, 13 Nov 2025) EndedAt: 2025-11-13 21:57:08 -0000 (Thu, 13 Nov 2025) EllapsedTime: 8.4 seconds RetCode: 0 Status: OK