Package: iModMix Version: 1.0.0 Command: /home/biocbuild/R/R/bin/R CMD build --keep-empty-dirs --no-resave-data iModMix StartedAt: 2025-11-14 02:39:18 -0000 (Fri, 14 Nov 2025) EndedAt: 2025-11-14 02:40:13 -0000 (Fri, 14 Nov 2025) EllapsedTime: 55.0 seconds RetCode: 0 Status: OK PackageFile: iModMix_1.0.0.tar.gz PackageFileSize: 10.37 MiB