Package: iModMix Version: 1.0.0 Command: /home/biocbuild/bbs-3.22-bioc/R/bin/R CMD INSTALL iModMix StartedAt: 2025-11-11 15:48:43 -0500 (Tue, 11 Nov 2025) EndedAt: 2025-11-11 15:48:49 -0500 (Tue, 11 Nov 2025) EllapsedTime: 6.4 seconds RetCode: 0 Status: OK