Package: iModMix Version: 1.0.0 Command: /home/biocbuild/bbs-3.22-bioc/R/bin/R CMD check --install=check:iModMix.install-out.txt --library=/home/biocbuild/bbs-3.22-bioc/R/site-library --timings iModMix_1.0.0.tar.gz StartedAt: 2025-11-12 00:42:00 -0500 (Wed, 12 Nov 2025) EndedAt: 2025-11-12 00:43:16 -0500 (Wed, 12 Nov 2025) EllapsedTime: 76.1 seconds RetCode: 0 Status: OK CheckDir: iModMix.Rcheck Warnings: 0