Package: iModMix Version: 1.0.0 Command: /Library/Frameworks/R.framework/Resources/bin/R CMD build --keep-empty-dirs --no-resave-data iModMix StartedAt: 2025-11-03 17:26:32 -0500 (Mon, 03 Nov 2025) EndedAt: 2025-11-03 17:28:02 -0500 (Mon, 03 Nov 2025) EllapsedTime: 89.7 seconds RetCode: 0 Status: OK PackageFile: iModMix_1.0.0.tar.gz PackageFileSize: 10.6 MiB