Package: iModMix Version: 1.0.0 Command: /Library/Frameworks/R.framework/Resources/bin/R CMD INSTALL iModMix StartedAt: 2025-11-10 15:23:07 -0500 (Mon, 10 Nov 2025) EndedAt: 2025-11-10 15:23:11 -0500 (Mon, 10 Nov 2025) EllapsedTime: 3.2 seconds RetCode: 0 Status: OK