Package: iGC Version: 1.40.0 Command: /Library/Frameworks/R.framework/Resources/bin/R CMD INSTALL iGC StartedAt: 2025-11-06 15:02:44 -0500 (Thu, 06 Nov 2025) EndedAt: 2025-11-06 15:02:47 -0500 (Thu, 06 Nov 2025) EllapsedTime: 3.6 seconds RetCode: 0 Status: OK