Package: iGC Version: 1.40.0 Command: /Library/Frameworks/R.framework/Resources/bin/R CMD build --keep-empty-dirs --no-resave-data iGC StartedAt: 2025-11-06 16:44:14 -0500 (Thu, 06 Nov 2025) EndedAt: 2025-11-06 16:44:24 -0500 (Thu, 06 Nov 2025) EllapsedTime: 10.1 seconds RetCode: 0 Status: OK PackageFile: iGC_1.40.0.tar.gz PackageFileSize: 2.951 MiB