Package: iGC Version: 1.40.0 Command: rm -rf iGC.buildbin-libdir && mkdir iGC.buildbin-libdir && /Users/biocbuild/BBS/utils/build-universal.sh iGC_1.40.0.tar.gz /Library/Frameworks/R.framework/Resources/bin/R iGC.buildbin-libdir StartedAt: 2025-11-06 23:08:35 -0500 (Thu, 06 Nov 2025) EndedAt: 2025-11-06 23:08:37 -0500 (Thu, 06 Nov 2025) EllapsedTime: 2.0 seconds RetCode: 0 Status: OK PackageFile: iGC_1.40.0.tgz PackageFileSize: 3.138 MiB