Package: iClusterPlus Version: 1.46.0 Command: /home/biocbuild/R/R/bin/R CMD INSTALL iClusterPlus StartedAt: 2025-11-10 21:02:30 -0000 (Mon, 10 Nov 2025) EndedAt: 2025-11-10 21:02:48 -0000 (Mon, 10 Nov 2025) EllapsedTime: 18.0 seconds RetCode: 1 Status: ERROR